BEGIN:VCALENDAR
VERSION:2.0
PRODID:-//ACHIEVE of Southwest Missouri - ECPv6.15.20//NONSGML v1.0//EN
CALSCALE:GREGORIAN
METHOD:PUBLISH
X-ORIGINAL-URL:https://achieveswmo.com
X-WR-CALDESC:Events for ACHIEVE of Southwest Missouri
REFRESH-INTERVAL;VALUE=DURATION:PT1H
X-Robots-Tag:noindex
X-PUBLISHED-TTL:PT1H
BEGIN:VTIMEZONE
TZID:America/Chicago
BEGIN:DAYLIGHT
TZOFFSETFROM:-0600
TZOFFSETTO:-0500
TZNAME:CDT
DTSTART:20220313T080000
END:DAYLIGHT
BEGIN:STANDARD
TZOFFSETFROM:-0500
TZOFFSETTO:-0600
TZNAME:CST
DTSTART:20221106T070000
END:STANDARD
BEGIN:DAYLIGHT
TZOFFSETFROM:-0600
TZOFFSETTO:-0500
TZNAME:CDT
DTSTART:20230312T080000
END:DAYLIGHT
BEGIN:STANDARD
TZOFFSETFROM:-0500
TZOFFSETTO:-0600
TZNAME:CST
DTSTART:20231105T070000
END:STANDARD
BEGIN:DAYLIGHT
TZOFFSETFROM:-0600
TZOFFSETTO:-0500
TZNAME:CDT
DTSTART:20240310T080000
END:DAYLIGHT
BEGIN:STANDARD
TZOFFSETFROM:-0500
TZOFFSETTO:-0600
TZNAME:CST
DTSTART:20241103T070000
END:STANDARD
BEGIN:DAYLIGHT
TZOFFSETFROM:-0600
TZOFFSETTO:-0500
TZNAME:CDT
DTSTART:20250309T080000
END:DAYLIGHT
BEGIN:STANDARD
TZOFFSETFROM:-0500
TZOFFSETTO:-0600
TZNAME:CST
DTSTART:20251102T070000
END:STANDARD
END:VTIMEZONE
BEGIN:VEVENT
DTSTART;TZID=America/Chicago:20231103T180000
DTEND;TZID=America/Chicago:20231218T190000
DTSTAMP:20260421T050130
CREATED:20231103T165101Z
LAST-MODIFIED:20231103T165101Z
UID:997-1699034400-1702926000@achieveswmo.com
SUMMARY:Online Drivers Course Registration
DESCRIPTION:
URL:https://achieveswmo.com/event/online-drivers-course-registration/
LOCATION:ZOOM
ORGANIZER;CN="Lynn Neidigh":MAILTO:AchieveSWMO@evangel.edu
END:VEVENT
BEGIN:VEVENT
DTSTART;VALUE=DATE:20231211
DTEND;VALUE=DATE:20240109
DTSTAMP:20260421T050130
CREATED:20230808T191236Z
LAST-MODIFIED:20230809T190928Z
UID:890-1702252800-1704758399@achieveswmo.com
SUMMARY:Christmas Break
DESCRIPTION:
URL:https://achieveswmo.com/event/christmas-break/
END:VEVENT
END:VCALENDAR