BEGIN:VCALENDAR
VERSION:2.0
PRODID:-//ACHIEVE of Southwest Missouri - ECPv6.15.20//NONSGML v1.0//EN
CALSCALE:GREGORIAN
METHOD:PUBLISH
X-ORIGINAL-URL:https://achieveswmo.com
X-WR-CALDESC:Events for ACHIEVE of Southwest Missouri
REFRESH-INTERVAL;VALUE=DURATION:PT1H
X-Robots-Tag:noindex
X-PUBLISHED-TTL:PT1H
BEGIN:VTIMEZONE
TZID:America/Chicago
BEGIN:DAYLIGHT
TZOFFSETFROM:-0600
TZOFFSETTO:-0500
TZNAME:CDT
DTSTART:20230312T080000
END:DAYLIGHT
BEGIN:STANDARD
TZOFFSETFROM:-0500
TZOFFSETTO:-0600
TZNAME:CST
DTSTART:20231105T070000
END:STANDARD
BEGIN:DAYLIGHT
TZOFFSETFROM:-0600
TZOFFSETTO:-0500
TZNAME:CDT
DTSTART:20240310T080000
END:DAYLIGHT
BEGIN:STANDARD
TZOFFSETFROM:-0500
TZOFFSETTO:-0600
TZNAME:CST
DTSTART:20241103T070000
END:STANDARD
BEGIN:DAYLIGHT
TZOFFSETFROM:-0600
TZOFFSETTO:-0500
TZNAME:CDT
DTSTART:20250309T080000
END:DAYLIGHT
BEGIN:STANDARD
TZOFFSETFROM:-0500
TZOFFSETTO:-0600
TZNAME:CST
DTSTART:20251102T070000
END:STANDARD
END:VTIMEZONE
BEGIN:VEVENT
DTSTART;TZID=America/Chicago:20240109T180000
DTEND;TZID=America/Chicago:20240307T190000
DTSTAMP:20260420T174641
CREATED:20231102T163833Z
LAST-MODIFIED:20231103T164155Z
UID:936-1704823200-1709838000@achieveswmo.com
SUMMARY:Online Drivers Permit Course
DESCRIPTION:
URL:https://achieveswmo.com/event/online-drivers-permit-course/
LOCATION:ZOOM
ORGANIZER;CN="Lynn Neidigh":MAILTO:AchieveSWMO@evangel.edu
END:VEVENT
BEGIN:VEVENT
DTSTART;TZID=America/Chicago:20240205T173000
DTEND;TZID=America/Chicago:20240205T193000
DTSTAMP:20260420T174641
CREATED:20230809T191735Z
LAST-MODIFIED:20230809T191735Z
UID:905-1707154200-1707161400@achieveswmo.com
SUMMARY:Achieve Spring 24' Parent Workshop
DESCRIPTION:
URL:https://achieveswmo.com/event/achieve-spring-24-parent-workshop/
END:VEVENT
BEGIN:VEVENT
DTSTART;TZID=America/Chicago:20240205T173000
DTEND;TZID=America/Chicago:20240205T193000
DTSTAMP:20260420T174641
CREATED:20240205T233024Z
LAST-MODIFIED:20230809T191403Z
UID:896-1707154200-1707161400@achieveswmo.com
SUMMARY:Achieve Spring Parent Workshop
DESCRIPTION:
URL:https://achieveswmo.com/event/achieve-spring-parent-workshop/
END:VEVENT
END:VCALENDAR