BEGIN:VCALENDAR
VERSION:2.0
PRODID:-//ACHIEVE of Southwest Missouri - ECPv6.15.20//NONSGML v1.0//EN
CALSCALE:GREGORIAN
METHOD:PUBLISH
X-WR-CALNAME:ACHIEVE of Southwest Missouri
X-ORIGINAL-URL:https://achieveswmo.com
X-WR-CALDESC:Events for ACHIEVE of Southwest Missouri
REFRESH-INTERVAL;VALUE=DURATION:PT1H
X-Robots-Tag:noindex
X-PUBLISHED-TTL:PT1H
BEGIN:VTIMEZONE
TZID:America/Chicago
BEGIN:DAYLIGHT
TZOFFSETFROM:-0600
TZOFFSETTO:-0500
TZNAME:CDT
DTSTART:20230312T080000
END:DAYLIGHT
BEGIN:STANDARD
TZOFFSETFROM:-0500
TZOFFSETTO:-0600
TZNAME:CST
DTSTART:20231105T070000
END:STANDARD
BEGIN:DAYLIGHT
TZOFFSETFROM:-0600
TZOFFSETTO:-0500
TZNAME:CDT
DTSTART:20240310T080000
END:DAYLIGHT
BEGIN:STANDARD
TZOFFSETFROM:-0500
TZOFFSETTO:-0600
TZNAME:CST
DTSTART:20241103T070000
END:STANDARD
BEGIN:DAYLIGHT
TZOFFSETFROM:-0600
TZOFFSETTO:-0500
TZNAME:CDT
DTSTART:20250309T080000
END:DAYLIGHT
BEGIN:STANDARD
TZOFFSETFROM:-0500
TZOFFSETTO:-0600
TZNAME:CST
DTSTART:20251102T070000
END:STANDARD
END:VTIMEZONE
BEGIN:VEVENT
DTSTART;TZID=America/Chicago:20240109T180000
DTEND;TZID=America/Chicago:20240307T190000
DTSTAMP:20260419T092726
CREATED:20231102T163833Z
LAST-MODIFIED:20231103T164155Z
UID:936-1704823200-1709838000@achieveswmo.com
SUMMARY:Online Drivers Permit Course
DESCRIPTION:
URL:https://achieveswmo.com/event/online-drivers-permit-course/
LOCATION:ZOOM
ORGANIZER;CN="Lynn Neidigh":MAILTO:AchieveSWMO@evangel.edu
END:VEVENT
BEGIN:VEVENT
DTSTART;TZID=America/Chicago:20240226T090000
DTEND;TZID=America/Chicago:20240226T150000
DTSTAMP:20260419T092726
CREATED:20230809T191832Z
LAST-MODIFIED:20230809T191832Z
UID:907-1708938000-1708959600@achieveswmo.com
SUMMARY:Achieve Class- Community Day
DESCRIPTION:
URL:https://achieveswmo.com/event/achieve-class-community-day-8/
END:VEVENT
BEGIN:VEVENT
DTSTART;TZID=America/Chicago:20240226T090000
DTEND;TZID=America/Chicago:20240226T150000
DTSTAMP:20260419T092726
CREATED:20240226T150022Z
LAST-MODIFIED:20230808T194026Z
UID:898-1708938000-1708959600@achieveswmo.com
SUMMARY:Achieve Class- Community Day
DESCRIPTION:
URL:https://achieveswmo.com/event/achieve-class-community-day-7/
END:VEVENT
END:VCALENDAR